BEGIN:VCALENDAR
VERSION:2.0
PRODID:-//wp-events-plugin.com//7.2.3.1//EN
BEGIN:VEVENT
UID:200@eendracht-colmschate.nl
DTSTART;TZID=Europe/Amsterdam:20240602T130000
DTEND;TZID=Europe/Amsterdam:20240602T163000
DTSTAMP:20240415T124156Z
URL:https://eendracht-colmschate.nl/agenda/de-wind-in-de-wilgen/
SUMMARY:De Wind in de Wilgen
DESCRIPTION:Heb je altijd al eens een muziekinstrument willen uitproberen? 
 Of ben je benieuwd of je geluid kunt krijgen uit een trompet of saxofoon?
ATTACH;FMTTYPE=image/jpeg:https://eendracht-colmschate.nl/wp-content/uploa
 ds/2024/04/De-Wind-in-de-Wilgen.jpeg
CATEGORIES:Muziekopleiding
LOCATION:Kulturhus Diepenveen\, Dorpsstraat 30 \, Diepenveen\, Overijssel\,
  7431 CL\, Nederland
GEO:52.2900904;6.145577000000003
X-APPLE-STRUCTURED-LOCATION;VALUE=URI;X-ADDRESS=Dorpsstraat 30 \, Diepenvee
 n\, Overijssel\, 7431 CL\, Nederland;X-APPLE-RADIUS=100;X-TITLE=Kulturhus 
 Diepenveen:geo:52.2900904,6.145577000000003
END:VEVENT
BEGIN:VTIMEZONE
TZID:Europe/Amsterdam
X-LIC-LOCATION:Europe/Amsterdam
BEGIN:DAYLIGHT
DTSTART:20240331T030000
TZOFFSETFROM:+0100
TZOFFSETTO:+0200
TZNAME:CEST
END:DAYLIGHT
END:VTIMEZONE
END:VCALENDAR