BEGIN:VCALENDAR
VERSION:2.0
PRODID:-//wp-events-plugin.com//7.2.3.1//EN
BEGIN:VEVENT
UID:276@eendracht-colmschate.nl
DTSTART;TZID=Europe/Amsterdam:20250504T194500
DTEND;TZID=Europe/Amsterdam:20250504T210000
DTSTAMP:20250222T100704Z
URL:https://eendracht-colmschate.nl/agenda/deventer-dodenherdenking-2025/
SUMMARY:Deventer Dodenherdenking 2025
DESCRIPTION:Eendracht zal dit jaar weer haar medewerking verlenen aan de De
 venter Dodenherdenking op het Grote Kerkhof.
ATTACH;FMTTYPE=image/jpeg:https://eendracht-colmschate.nl/wp-content/uploa
 ds/2024/05/Deventer-Dodenherdenking-4-mei-2024-5.jpeg
CATEGORIES:Concerten,Harmonieorkest
LOCATION:Stadhuiskwartier Deventer\, \, 
X-APPLE-STRUCTURED-LOCATION;VALUE=URI;X-ADDRESS=\, ;X-APPLE-RADIUS=100;X-TI
 TLE=Stadhuiskwartier Deventer:geo:0,0
END:VEVENT
BEGIN:VTIMEZONE
TZID:Europe/Amsterdam
X-LIC-LOCATION:Europe/Amsterdam
BEGIN:DAYLIGHT
DTSTART:20250330T030000
TZOFFSETFROM:+0100
TZOFFSETTO:+0200
TZNAME:CEST
END:DAYLIGHT
END:VTIMEZONE
END:VCALENDAR