BEGIN:VCALENDAR
VERSION:2.0
PRODID:-//wp-events-plugin.com//7.2.3.1//EN
BEGIN:VEVENT
UID:243@eendracht-colmschate.nl
DTSTART;TZID=Europe/Amsterdam:20241124T133000
DTEND;TZID=Europe/Amsterdam:20241124T163000
DTSTAMP:20241116T091052Z
URL:https://eendracht-colmschate.nl/agenda/deventer-muziekmaak-dag-2024/
SUMMARY:Deventer MuziekMaak Dag 2024
DESCRIPTION:Kom muziek maken in de Deventer Schouwburg! Op zondag 24 novemb
 er klinkt er door de  hele schouwburg muziek. Overal. Zowel boven als ben
 eden\, in de grote zaal\, de foyers\, en zelfs in het halletje. Altijd al 
 eens op een trompet willen blazen\, willen drummen\, op een fluit willen s
 pelen of alle toetsen van een piano willen aanslaan? Het kan op de  Deven
 ter MuziekMaak Dag.
ATTACH;FMTTYPE=image/jpeg:https://eendracht-colmschate.nl/wp-content/uploa
 ds/2024/11/Deventer-MuziekMaak-Dag-2024.jpg
CATEGORIES:Harmonieorkest,Het Stijlorkest,Muziekopleiding,Opleidingsorkest
LOCATION:Deventer Schouwburg\, Leeuwenbrug 2\, Deventer\, Overijssel\, 7411
  TJ \, Nederland
GEO:52.255516;6.161772
X-APPLE-STRUCTURED-LOCATION;VALUE=URI;X-ADDRESS=Leeuwenbrug 2\, Deventer\, 
 Overijssel\, 7411 TJ \, Nederland;X-APPLE-RADIUS=100;X-TITLE=Deventer Scho
 uwburg:geo:52.255516,6.161772
END:VEVENT
BEGIN:VTIMEZONE
TZID:Europe/Amsterdam
X-LIC-LOCATION:Europe/Amsterdam
BEGIN:STANDARD
DTSTART:20241027T020000
TZOFFSETFROM:+0200
TZOFFSETTO:+0100
TZNAME:CET
END:STANDARD
END:VTIMEZONE
END:VCALENDAR