BEGIN:VCALENDAR
VERSION:2.0
PRODID:-//wp-events-plugin.com//7.2.3.1//EN
BEGIN:VEVENT
UID:241@eendracht-colmschate.nl
DTSTART;TZID=Europe/Amsterdam:20250322T000000
DTEND;TZID=Europe/Amsterdam:20250322T000000
DTSTAMP:20240918T071938Z
URL:https://eendracht-colmschate.nl/agenda/feestavond-100-jaar-eendracht/
SUMMARY:Feestavond 100 jaar Eendracht
DESCRIPTION:Vanavond een feestavond voor alle leden van Eendracht om het 10
 0-jarige jubileum met elkaar te vieren.
ATTACH;FMTTYPE=image/jpeg:https://eendracht-colmschate.nl/wp-content/uploa
 ds/2024/05/Banner-harmonieorkest-2024.jpg
CATEGORIES:Harmonieorkest,Hele muziekvereniging,Het
 Stijlorkest,Muziekopleiding,Opleidingsorkest
END:VEVENT
BEGIN:VTIMEZONE
TZID:Europe/Amsterdam
X-LIC-LOCATION:Europe/Amsterdam
BEGIN:STANDARD
DTSTART:20241027T020000
TZOFFSETFROM:+0200
TZOFFSETTO:+0100
TZNAME:CET
END:STANDARD
END:VTIMEZONE
END:VCALENDAR