BEGIN:VCALENDAR
VERSION:2.0
PRODID:-//wp-events-plugin.com//7.2.3.1//EN
BEGIN:VEVENT
UID:275@eendracht-colmschate.nl
DTSTART;TZID=Europe/Amsterdam:20250408T191500
DTEND;TZID=Europe/Amsterdam:20250408T200000
DTSTAMP:20250403T022334Z
URL:https://eendracht-colmschate.nl/agenda/herdenking-colmschate-bevrijd-2
 025/
SUMMARY:Herdenking Colmschate Bevrijd 2025
DESCRIPTION:Op 8 april 2025 is het 80 jaar geleden dat Colmschate werd bevr
 ijd. Daar staan we graag samen bij stil. Je bent van harte welkom tijdens 
 de herdenking.
ATTACH;FMTTYPE=image/jpeg:https://eendracht-colmschate.nl/wp-content/uploa
 ds/2024/04/Herdenking-Colmschate-Bevrijd-8-april-2024-6.jpg
CATEGORIES:Concerten,Harmonieorkest
LOCATION:Gedenkbord Colmschate\, Holterweg 106\, Colmschate\, Overijssel\, 
 7429 AH\, Nederland
X-APPLE-STRUCTURED-LOCATION;VALUE=URI;X-ADDRESS=Holterweg 106\, Colmschate\
 , Overijssel\, 7429 AH\, Nederland;X-APPLE-RADIUS=100;X-TITLE=Gedenkbord C
 olmschate:geo:0,0
END:VEVENT
BEGIN:VTIMEZONE
TZID:Europe/Amsterdam
X-LIC-LOCATION:Europe/Amsterdam
BEGIN:DAYLIGHT
DTSTART:20250330T030000
TZOFFSETFROM:+0100
TZOFFSETTO:+0200
TZNAME:CEST
END:DAYLIGHT
END:VTIMEZONE
END:VCALENDAR