BEGIN:VCALENDAR
VERSION:2.0
PRODID:-//wp-events-plugin.com//7.2.3.1//EN
BEGIN:VEVENT
UID:208@eendracht-colmschate.nl
DTSTART;TZID=Europe/Amsterdam:20240527T181500
DTEND;TZID=Europe/Amsterdam:20240527T181500
DTSTAMP:20240519T095824Z
URL:https://eendracht-colmschate.nl/agenda/het-stijlorkest-deventer-avond4
 daagse/
SUMMARY:Het Stijlorkest: Deventer Avond4Daagse
DESCRIPTION:Het Stijlorkest begeleidt de start van de Deventer Avond4Daagse
ATTACH;FMTTYPE=image/jpeg:https://eendracht-colmschate.nl/wp-content/uploa
 ds/2024/05/Het-Stijlorkest.jpg
CATEGORIES:Concerten,Het Stijlorkest
LOCATION:Diverse wijken in Colmschate\, Holterweg\, Colmschate\, Overijssel
 \, 7429 AH\, Nederland
GEO:52.2489918;6.223924699999998
X-APPLE-STRUCTURED-LOCATION;VALUE=URI;X-ADDRESS=Holterweg\, Colmschate\, Ov
 erijssel\, 7429 AH\, Nederland;X-APPLE-RADIUS=100;X-TITLE=Diverse wijken i
 n Colmschate:geo:52.2489918,6.223924699999998
END:VEVENT
BEGIN:VTIMEZONE
TZID:Europe/Amsterdam
X-LIC-LOCATION:Europe/Amsterdam
BEGIN:DAYLIGHT
DTSTART:20240331T030000
TZOFFSETFROM:+0100
TZOFFSETTO:+0200
TZNAME:CEST
END:DAYLIGHT
END:VTIMEZONE
END:VCALENDAR