BEGIN:VCALENDAR
VERSION:2.0
PRODID:-//wp-events-plugin.com//7.2.3.1//EN
BEGIN:VEVENT
UID:199@eendracht-colmschate.nl
DTSTART;TZID=Europe/Amsterdam:20241019T153000
DTEND;TZID=Europe/Amsterdam:20241019T180000
DTSTAMP:20241016T052338Z
URL:https://eendracht-colmschate.nl/agenda/jeugdconcert-met-muziekverenigi
 ng-prins-bernhard-uit-emst/
SUMMARY:Jeugdconcert met Muziekvereniging Prins Bernhard uit Emst
DESCRIPTION:Muziekvereniging Prins Bernhard uit Emst bestaat dit jaar 85 ja
 ar!  Zij organiseren een jeugdconcert met opleidingsorkesten uit de regio
 . Eendracht is daar ook voor benaderd en ons opleidingsorkest doet ook mee
  hieraan.
ATTACH;FMTTYPE=image/jpeg:https://eendracht-colmschate.nl/wp-content/uploa
 ds/2024/04/Opleidingsorkest-Eendracht-2024.jpg
CATEGORIES:Concerten,Opleidingsorkest
END:VEVENT
BEGIN:VTIMEZONE
TZID:Europe/Amsterdam
X-LIC-LOCATION:Europe/Amsterdam
BEGIN:DAYLIGHT
DTSTART:20240331T030000
TZOFFSETFROM:+0100
TZOFFSETTO:+0200
TZNAME:CEST
END:DAYLIGHT
END:VTIMEZONE
END:VCALENDAR