BEGIN:VCALENDAR
VERSION:2.0
PRODID:-//wp-events-plugin.com//7.2.3.1//EN
BEGIN:VEVENT
UID:242@eendracht-colmschate.nl
DTSTART;TZID=Europe/Amsterdam:20250518T130000
DTEND;TZID=Europe/Amsterdam:20250518T170000
DTSTAMP:20260220T083013Z
URL:https://eendracht-colmschate.nl/agenda/kennismakingworkshop-en-repetit
 ie-passie-voor-de-wereld/
SUMMARY:Kennismakingworkshop en repetitie Passie voor de Wereld
DESCRIPTION:Deze middag is de start voor de muzikanten en zangers van het p
 roject Passie voor de Wereld. Deze dag zal de eerste kennismaking zijn\, z
 al er een workshop zijn en de eerste repetities.
ATTACH;FMTTYPE=image/jpeg:https://eendracht-colmschate.nl/wp-content/uploa
 ds/2020/05/Wereldbol-deels-scaled-1.jpg
CATEGORIES:Harmonieorkest,Repetities
LOCATION:Kulturhus Diepenveen\, Dorpsstraat 30 \, Diepenveen\, Overijssel\,
  7431 CL\, Nederland
GEO:52.2900904;6.145577000000003
X-APPLE-STRUCTURED-LOCATION;VALUE=URI;X-ADDRESS=Dorpsstraat 30 \, Diepenvee
 n\, Overijssel\, 7431 CL\, Nederland;X-APPLE-RADIUS=100;X-TITLE=Kulturhus 
 Diepenveen:geo:52.2900904,6.145577000000003
END:VEVENT
BEGIN:VTIMEZONE
TZID:Europe/Amsterdam
X-LIC-LOCATION:Europe/Amsterdam
BEGIN:DAYLIGHT
DTSTART:20250330T030000
TZOFFSETFROM:+0100
TZOFFSETTO:+0200
TZNAME:CEST
END:DAYLIGHT
END:VTIMEZONE
END:VCALENDAR