BEGIN:VCALENDAR
VERSION:2.0
PRODID:-//wp-events-plugin.com//7.2.3.1//EN
BEGIN:VEVENT
UID:238@eendracht-colmschate.nl
DTSTART;TZID=Europe/Amsterdam:20241223T190000
DTEND;TZID=Europe/Amsterdam:20241223T210000
DTSTAMP:20241204T142600Z
URL:https://eendracht-colmschate.nl/agenda/kerstconcert-2024-humanitas/
SUMMARY:Kerstconcert 2024: Humanitas
DESCRIPTION:Op maandagavond 23 december brengen we de bewoners alvast in de
  kerstsfeer met een kerstconcert.
ATTACH;FMTTYPE=image/jpeg:https://eendracht-colmschate.nl/wp-content/uploa
 ds/2023/12/Kerstconcert-Humanitas-Deventer-18-december-2023-3.jpg
CATEGORIES:Concerten,Harmonieorkest,Opleidingsorkest
LOCATION:Woon- en Zorgcentrum Humanitas Deventer\, Radboudlaan 1\, Deventer
 \, Overijssel\, 7415 VA\, Overijssel\, Nederland
GEO:52.2712462;6.162998300000027
X-APPLE-STRUCTURED-LOCATION;VALUE=URI;X-ADDRESS=Radboudlaan 1\, Deventer\, 
 Overijssel\, 7415 VA\, Overijssel\, Nederland;X-APPLE-RADIUS=100;X-TITLE=W
 oon- en Zorgcentrum Humanitas Deventer:geo:52.2712462,6.162998300000027
END:VEVENT
BEGIN:VTIMEZONE
TZID:Europe/Amsterdam
X-LIC-LOCATION:Europe/Amsterdam
BEGIN:STANDARD
DTSTART:20241027T020000
TZOFFSETFROM:+0200
TZOFFSETTO:+0100
TZNAME:CET
END:STANDARD
END:VTIMEZONE
END:VCALENDAR