BEGIN:VCALENDAR
VERSION:2.0
PRODID:-//wp-events-plugin.com//7.2.3.1//EN
BEGIN:VEVENT
UID:198@eendracht-colmschate.nl
DTSTART;TZID=Europe/Amsterdam:20241217T193000
DTEND;TZID=Europe/Amsterdam:20241217T203000
DTSTAMP:20241127T100413Z
URL:https://eendracht-colmschate.nl/agenda/kerstconcert-2024/
SUMMARY:Kerstconcert 2024: Kerst met muziekvereniging Eendracht
DESCRIPTION:Kerst: een tijd van verbinding\, samen zijn en liefde\nTijdens 
 de feestdagen draait alles om samen iets moois creëren. Bent u benieuwd h
 oe dat klinkt in een harmonieorkest?
ATTACH;FMTTYPE=image/jpeg:https://eendracht-colmschate.nl/wp-content/uploa
 ds/2024/04/Flyer-Kerst-met-Eendracht-2024.png
CATEGORIES:Concerten,Harmonieorkest,Opleidingsorkest
LOCATION:Titus Brandsmahuis\, Titus Brandsmaplein 2\, Deventer\, Overijssel
 \, 7423 EM \, Nederland
GEO:52.250903;6.21513
X-APPLE-STRUCTURED-LOCATION;VALUE=URI;X-ADDRESS=Titus Brandsmaplein 2\, Dev
 enter\, Overijssel\, 7423 EM \, Nederland;X-APPLE-RADIUS=100;X-TITLE=Titus
  Brandsmahuis:geo:52.250903,6.21513
END:VEVENT
BEGIN:VTIMEZONE
TZID:Europe/Amsterdam
X-LIC-LOCATION:Europe/Amsterdam
BEGIN:STANDARD
DTSTART:20241027T020000
TZOFFSETFROM:+0200
TZOFFSETTO:+0100
TZNAME:CET
END:STANDARD
END:VTIMEZONE
END:VCALENDAR