BEGIN:VCALENDAR
VERSION:2.0
PRODID:-//wp-events-plugin.com//7.2.3.1//EN
BEGIN:VEVENT
UID:244@eendracht-colmschate.nl
DTSTART;TZID=Europe/Amsterdam:20241215T134500
DTEND;TZID=Europe/Amsterdam:20241215T144500
DTSTAMP:20241204T142331Z
URL:https://eendracht-colmschate.nl/agenda/kerstconcert-deventer-kerststad
 /
SUMMARY:Kerstconcert Deventer Kerststad
DESCRIPTION:Op zondagmiddag tijdens het bekende Dickens Festijn in Deventer
  kunt u genieten van sfeervolle kerstconcerten in de prachtige historische
  kerken van de stad. Het harmonieorkest verzorgt een afwisselend kerstprog
 ramma in de majestueuze Lebuinuskerk.
ATTACH;FMTTYPE=image/jpeg:https://eendracht-colmschate.nl/wp-content/uploa
 ds/2023/12/Kerstconcert-Lebuinuskerk-17-december-2023-6-scaled.jpg
CATEGORIES:Concerten,Harmonieorkest
LOCATION:Grote of Lebuïnuskerk\, Grote Kerkhof 42\,\, Deventer\, Overijsse
 l\, 7411 PE \, Nederland
GEO:52.2520071;6.155442799999946
X-APPLE-STRUCTURED-LOCATION;VALUE=URI;X-ADDRESS=Grote Kerkhof 42\,\, Devent
 er\, Overijssel\, 7411 PE \, Nederland;X-APPLE-RADIUS=100;X-TITLE=Grote of
  Lebuïnuskerk:geo:52.2520071,6.155442799999946
END:VEVENT
BEGIN:VTIMEZONE
TZID:Europe/Amsterdam
X-LIC-LOCATION:Europe/Amsterdam
BEGIN:STANDARD
DTSTART:20241027T020000
TZOFFSETFROM:+0200
TZOFFSETTO:+0100
TZNAME:CET
END:STANDARD
END:VTIMEZONE
END:VCALENDAR