BEGIN:VCALENDAR
VERSION:2.0
PRODID:-//wp-events-plugin.com//7.2.3.1//EN
BEGIN:VEVENT
UID:278@eendracht-colmschate.nl
DTSTART;TZID=Europe/Amsterdam;VALUE=DATE:20251003
DTEND;TZID=Europe/Amsterdam;VALUE=DATE:20251006
DTSTAMP:20250402T124623Z
URL:https://eendracht-colmschate.nl/agenda/muziekweekend-voor-de-jeugd-202
 5/
SUMMARY:Muziekweekend voor de jeugd 2025
DESCRIPTION:De jeugd van Eendracht gaat dit jaar ook weer op een jeugdweeke
 nd met andere muziekverenigingen.\n\n
ATTACH;FMTTYPE=image/jpeg:https://eendracht-colmschate.nl/wp-content/uploa
 ds/2024/10/Groepsfoto-jeugd-muziekweekend-2024.jpg
CATEGORIES:Concerten,Muziekopleiding
LOCATION:Kamphuis Fijnoord Ermelo\, Drieerweg 119\, Ermelo\, 3852 MA \, Ned
 erland
X-APPLE-STRUCTURED-LOCATION;VALUE=URI;X-ADDRESS=Drieerweg 119\, Ermelo\, 38
 52 MA \, Nederland;X-APPLE-RADIUS=100;X-TITLE=Kamphuis Fijnoord Ermelo:geo
 :0,0
END:VEVENT
BEGIN:VTIMEZONE
TZID:Europe/Amsterdam
X-LIC-LOCATION:Europe/Amsterdam
BEGIN:DAYLIGHT
DTSTART:20250330T030000
TZOFFSETFROM:+0100
TZOFFSETTO:+0200
TZNAME:CEST
END:DAYLIGHT
END:VTIMEZONE
END:VCALENDAR