BEGIN:VCALENDAR
VERSION:2.0
PRODID:-//wp-events-plugin.com//7.2.3.1//EN
BEGIN:VEVENT
UID:236@eendracht-colmschate.nl
DTSTART;TZID=Europe/Amsterdam:20241216T180000
DTEND;TZID=Europe/Amsterdam:20241216T213000
DTSTAMP:20241127T100536Z
URL:https://eendracht-colmschate.nl/agenda/repetitie-opleidingsorkest-harm
 onieorkest-2024-12-16/
SUMMARY:Generale repetitie kerstconcert 2024
DESCRIPTION:Deze avond geen reguliere repetitie\, maar een generale repetit
 ie voor het kerstconcert van 2024.\n\nOp de maandagavond repeteren twee va
 n onze orkesten.  Vanaf 18.15 uur wordt er volop muziek gemaakt in de Ich
 tuskerk in Colmschate. Hier wordt druk gezamenlijk gerepeteerd door de ver
 schillende concerten die de orkesten hebben.\n\n18.15 - 19.15 uur: Startor
 kest &amp\; Opleidingsorkest\n19.30 - 21.30 uur: Harmonieorkest\nMeer info
 rmatie\nOpleidingsorkest\nHarmonieorkest\n\n&nbsp\;\n\n&nbsp\;
ATTACH;FMTTYPE=image/jpeg:https://eendracht-colmschate.nl/wp-content/uploa
 ds/2015/09/bladmuziek-1.jpg
CATEGORIES:Harmonieorkest,Opleidingsorkest,Repetities
LOCATION:Ichtuskerk Colmschate\, Holterweg 108\, Colmschate\, Overijssel\, 
 7429 AH\, Nederland
GEO:52.2486669;6.2224688000000015
X-APPLE-STRUCTURED-LOCATION;VALUE=URI;X-ADDRESS=Holterweg 108\, Colmschate\
 , Overijssel\, 7429 AH\, Nederland;X-APPLE-RADIUS=100;X-TITLE=Ichtuskerk C
 olmschate:geo:52.2486669,6.2224688000000015
END:VEVENT
BEGIN:VTIMEZONE
TZID:Europe/Amsterdam
X-LIC-LOCATION:Europe/Amsterdam
BEGIN:STANDARD
DTSTART:20241027T020000
TZOFFSETFROM:+0200
TZOFFSETTO:+0100
TZNAME:CET
END:STANDARD
END:VTIMEZONE
END:VCALENDAR