BEGIN:VCALENDAR
VERSION:2.0
PRODID:-//wp-events-plugin.com//7.2.3.1//EN
BEGIN:VEVENT
UID:219@eendracht-colmschate.nl
DTSTART;TZID=Europe/Amsterdam:20240826T180000
DTEND;TZID=Europe/Amsterdam:20241216T213000
DTSTAMP:20240519T101429Z
URL:https://eendracht-colmschate.nl/event-recurring/repetitie-opleidingsor
 kest-harmonieorkest/
SUMMARY:Repetitie opleidingsorkest & harmonieorkest
DESCRIPTION:Op de maandagavond repeteren twee van onze orkesten.  Vanaf 18
 .15 uur wordt er volop muziek gemaakt in de Ichtuskerk in Colmschate. Hier
  wordt druk gezamenlijk gerepeteerd door de verschillende concerten die de
  orkesten hebben.\n\n18.15 - 19.15 uur: Startorkest &amp\; Opleidingsorkes
 t\n19.30 - 21.30 uur: Harmonieorkest\nMeer informatie\nOpleidingsorkest\nH
 armonieorkest\n\n&nbsp\;\n\n&nbsp\;
ATTACH;FMTTYPE=image/jpeg:https://eendracht-colmschate.nl/wp-content/uploa
 ds/2015/09/bladmuziek-1.jpg
CATEGORIES:Harmonieorkest,Opleidingsorkest,Repetities
LOCATION:Ichtuskerk Colmschate\, Holterweg 108\, Colmschate\, Overijssel\, 
 7429 AH\, Nederland
GEO:52.2486669;6.2224688000000015
X-APPLE-STRUCTURED-LOCATION;VALUE=URI;X-ADDRESS=Holterweg 108\, Colmschate\
 , Overijssel\, 7429 AH\, Nederland;X-APPLE-RADIUS=100;X-TITLE=Ichtuskerk C
 olmschate:geo:52.2486669,6.2224688000000015
END:VEVENT
BEGIN:VTIMEZONE
TZID:Europe/Amsterdam
X-LIC-LOCATION:Europe/Amsterdam
BEGIN:DAYLIGHT
DTSTART:20240331T030000
TZOFFSETFROM:+0100
TZOFFSETTO:+0200
TZNAME:CEST
END:DAYLIGHT
BEGIN:STANDARD
DTSTART:20241027T020000
TZOFFSETFROM:+0200
TZOFFSETTO:+0100
TZNAME:CET
END:STANDARD
END:VTIMEZONE
END:VCALENDAR