BEGIN:VCALENDAR
VERSION:2.0
PRODID:-//wp-events-plugin.com//7.2.3.1//EN
BEGIN:VEVENT
UID:240@eendracht-colmschate.nl
DTSTART;TZID=Europe/Amsterdam;VALUE=DATE:20240902
DTEND;TZID=Europe/Amsterdam;VALUE=DATE:20240925
DTSTAMP:20250111T120206Z
URL:https://eendracht-colmschate.nl/agenda/stem-op-eendracht-rabo-clubsupp
 ort-2024/
SUMMARY:Stem op Eendracht Rabo ClubSupport 2024
DESCRIPTION:Ook dit jaar weer kan je stemmen op Eendracht tijdens Rabo Club
 Support. De leden van de Rabobank kunnen dan stemmen op hun favoriete vere
 niging/organisatie. Elke stem is ongeveer 5 euro waard. Hoe meer stemmen\,
  hoe meer geld Eendracht krijgt!
ATTACH;FMTTYPE=image/jpeg:https://eendracht-colmschate.nl/wp-content/uploa
 ds/2024/09/Poster-Rabo-ClubSupport-2024-Eendracht.png
CATEGORIES:Harmonieorkest,Hele muziekvereniging,Het
 Stijlorkest,Muziekopleiding,Opleidingsorkest
END:VEVENT
BEGIN:VTIMEZONE
TZID:Europe/Amsterdam
X-LIC-LOCATION:Europe/Amsterdam
BEGIN:DAYLIGHT
DTSTART:20240331T030000
TZOFFSETFROM:+0100
TZOFFSETTO:+0200
TZNAME:CEST
END:DAYLIGHT
END:VTIMEZONE
END:VCALENDAR