BEGIN:VCALENDAR
VERSION:2.0
PRODID:-//wp-events-plugin.com//7.2.3.1//EN
BEGIN:VEVENT
UID:239@eendracht-colmschate.nl
DTSTART;TZID=Europe/Amsterdam:20240915T150000
DTEND;TZID=Europe/Amsterdam:20240915T150000
DTSTAMP:20240911T064357Z
URL:https://eendracht-colmschate.nl/agenda/zomerconcert-huize-salland-2024
 /
SUMMARY:Concert Huize Salland 2024
DESCRIPTION:Op deze zondagmiddag brengt Eendracht een zomerconcert bij Huiz
 e Salland.
ATTACH;FMTTYPE=image/jpeg:https://eendracht-colmschate.nl/wp-content/uploa
 ds/2017/06/salland_pand.jpg
CATEGORIES:Concerten,Harmonieorkest,Opleidingsorkest
LOCATION:Huize Salland\, Bloemendalsweg 5\, Colmschate\, Overijssel\, 7429A
 L\, Overijssel\, Nederland
GEO:52.248883;6.228740499999958
X-APPLE-STRUCTURED-LOCATION;VALUE=URI;X-ADDRESS=Bloemendalsweg 5\, Colmscha
 te\, Overijssel\, 7429AL\, Overijssel\, Nederland;X-APPLE-RADIUS=100;X-TIT
 LE=Huize Salland:geo:52.248883,6.228740499999958
END:VEVENT
BEGIN:VTIMEZONE
TZID:Europe/Amsterdam
X-LIC-LOCATION:Europe/Amsterdam
BEGIN:DAYLIGHT
DTSTART:20240331T030000
TZOFFSETFROM:+0100
TZOFFSETTO:+0200
TZNAME:CEST
END:DAYLIGHT
END:VTIMEZONE
END:VCALENDAR