BEGIN:VCALENDAR
VERSION:2.0
PRODID:-//wp-events-plugin.com//7.2.3.1//EN
BEGIN:VEVENT
UID:277@eendracht-colmschate.nl
DTSTART;TZID=Europe/Amsterdam:20250623T193000
DTEND;TZID=Europe/Amsterdam:20250623T210000
DTSTAMP:20250402T123622Z
URL:https://eendracht-colmschate.nl/agenda/zomerconcert-humanitas/
SUMMARY:Zomerconcert Humanitas
DESCRIPTION:Het opleidingsorkest en harmonieorkest verzorgen een zomerconce
 rt\, hopelijk buiten\, en anders binnen bij Humanitas in Deventer.
ATTACH;FMTTYPE=image/jpeg:https://eendracht-colmschate.nl/wp-content/uploa
 ds/2023/07/Zomerconcert-Humanitas-17-juli-2023-7.jpg
CATEGORIES:Concerten,Harmonieorkest,Opleidingsorkest
LOCATION:Woon- en Zorgcentrum Humanitas Deventer\, Radboudlaan 1\, Deventer
 \, Overijssel\, 7415 VA\, Overijssel\, Nederland
GEO:52.2712462;6.162998300000027
X-APPLE-STRUCTURED-LOCATION;VALUE=URI;X-ADDRESS=Radboudlaan 1\, Deventer\, 
 Overijssel\, 7415 VA\, Overijssel\, Nederland;X-APPLE-RADIUS=100;X-TITLE=W
 oon- en Zorgcentrum Humanitas Deventer:geo:52.2712462,6.162998300000027
END:VEVENT
BEGIN:VTIMEZONE
TZID:Europe/Amsterdam
X-LIC-LOCATION:Europe/Amsterdam
BEGIN:DAYLIGHT
DTSTART:20250330T030000
TZOFFSETFROM:+0100
TZOFFSETTO:+0200
TZNAME:CEST
END:DAYLIGHT
END:VTIMEZONE
END:VCALENDAR