BEGIN:VCALENDAR
VERSION:2.0
PRODID:-//wp-events-plugin.com//7.2.3.1//EN
BEGIN:VEVENT
UID:274@eendracht-colmschate.nl
DTSTART;TZID=Europe/Amsterdam:20250707T193000
DTEND;TZID=Europe/Amsterdam:20250707T210000
DTSTAMP:20250222T085553Z
URL:https://eendracht-colmschate.nl/agenda/zomerconcert-pw-janssen/
SUMMARY:Zomerconcert PW Janssen
DESCRIPTION:Het opleidingsorkest en harmonieorkest sluiten het seizoen voor
  de zomervakantie van 2025 af met een gezellig zomerconcert buiten bij het
  PW Janssen.
ATTACH;FMTTYPE=image/jpeg:https://eendracht-colmschate.nl/wp-content/uploa
 ds/2023/07/Zomerconcert-PW-Janssen-2023.png
CATEGORIES:Concerten,Harmonieorkest,Opleidingsorkest
LOCATION:Woonzorgcentrum PW Janssen\, Hermelijn 2\, Deventer\, Overijssel\,
  7423 EJ\, Nederland
GEO:52.25422349999999;6.214532599999984
X-APPLE-STRUCTURED-LOCATION;VALUE=URI;X-ADDRESS=Hermelijn 2\, Deventer\, Ov
 erijssel\, 7423 EJ\, Nederland;X-APPLE-RADIUS=100;X-TITLE=Woonzorgcentrum 
 PW Janssen:geo:52.25422349999999,6.214532599999984
END:VEVENT
BEGIN:VTIMEZONE
TZID:Europe/Amsterdam
X-LIC-LOCATION:Europe/Amsterdam
BEGIN:DAYLIGHT
DTSTART:20250330T030000
TZOFFSETFROM:+0100
TZOFFSETTO:+0200
TZNAME:CEST
END:DAYLIGHT
END:VTIMEZONE
END:VCALENDAR