BEGIN:VCALENDAR
VERSION:2.0
PRODID:-//wp-events-plugin.com//7.2.3.1//EN
BEGIN:VEVENT
UID:210@eendracht-colmschate.nl
DTSTART;TZID=Europe/Amsterdam;VALUE=DATE:20240716
DTEND;TZID=Europe/Amsterdam;VALUE=DATE:20240826
DTSTAMP:20240519T101154Z
URL:https://eendracht-colmschate.nl/agenda/zomervakantie-2024/
SUMMARY:Zomervakantie 2024
DESCRIPTION:Even geen repetities en optredens. De vereniging geniet even va
 n de zomer!
ATTACH;FMTTYPE=image/jpeg:https://eendracht-colmschate.nl/wp-content/uploa
 ds/2024/05/Fijne-zomer.jpg
CATEGORIES:Harmonieorkest,Hele muziekvereniging,Het
 Stijlorkest,Muziekopleiding,Opleidingsorkest
END:VEVENT
BEGIN:VTIMEZONE
TZID:Europe/Amsterdam
X-LIC-LOCATION:Europe/Amsterdam
BEGIN:DAYLIGHT
DTSTART:20240331T030000
TZOFFSETFROM:+0100
TZOFFSETTO:+0200
TZNAME:CEST
END:DAYLIGHT
END:VTIMEZONE
END:VCALENDAR